BEGIN:VCALENDAR
PRODID:-//eluceo/ical//2.0/EN
VERSION:2.0
CALSCALE:GREGORIAN
BEGIN:VEVENT
UID:casag/event/30507
DTSTAMP:20260419T200559Z
SUMMARY:CAPT MILLION FINAL DAY
DESCRIPTION:Texas Hold'em\nBUY-IN: € 500+50\nGARANTIE: €€ 1 Mio
URL:https://www.casinos.at/events/poker-kalender/detail/2025-12-01-capt-mil
 lion-final-day-baden
DTSTART:20251201T153000
DTEND:20251201T235900
LOCATION:Casino Baden\, Kaiser-Franz-Ring 1\, 2500 Baden
END:VEVENT
END:VCALENDAR
