BEGIN:VCALENDAR
PRODID:-//eluceo/ical//2.0/EN
VERSION:2.0
CALSCALE:GREGORIAN
BEGIN:VEVENT
UID:casag/event/30509
DTSTAMP:20260419T200509Z
SUMMARY:MICRO CAPT MILLION
DESCRIPTION:Texas Hold'em\nBUY-IN: € 50+10
URL:https://www.casinos.at/events/poker-kalender/detail/2025-12-01-micro-ca
 pt-million-baden
DTSTART:20251201T170000
DTEND:20251201T235900
LOCATION:Casino Baden\, Kaiser-Franz-Ring 1\, 2500 Baden
END:VEVENT
END:VCALENDAR
