BEGIN:VCALENDAR
PRODID:-//eluceo/ical//2.0/EN
VERSION:2.0
CALSCALE:GREGORIAN
BEGIN:VEVENT
UID:casag/event/30518
DTSTAMP:20260419T214433Z
SUMMARY:CAPT MILLION DAY 1 Starttag
DESCRIPTION:Texas Hold'em\nBUY-IN: € 500+50\nGARANTIE: €€ 1 Mio
URL:https://www.casinos.at/events/poker-kalender/detail/2025-09-06-capt-mil
 lion-day-1-starttag-baden
DTSTART:20251108T160000
DTEND:20251108T235900
LOCATION:Casino Baden\, Kaiser-Franz-Ring 1\, 2500 Baden
END:VEVENT
END:VCALENDAR
