BEGIN:VCALENDAR
PRODID:-//eluceo/ical//2.0/EN
VERSION:2.0
CALSCALE:GREGORIAN
BEGIN:VEVENT
UID:casag/event/30712
DTSTAMP:20260420T073636Z
SUMMARY:Bad Beat Day
DESCRIPTION:Texas Hold'em/Omaha\nGARANTIE: € 400 in Spieljetons
URL:https://www.casinos.at/events/poker-kalender/detail/2025-04-29-bad-beat
 -day-innsbruck
DTSTART:20250429T170000
DTEND:20250429T235900
LOCATION:Casino Innsbruck\, Salurner Straße 15\, 6020 Innsbruck
END:VEVENT
END:VCALENDAR
