BEGIN:VCALENDAR
PRODID:-//eluceo/ical//2.0/EN
VERSION:2.0
CALSCALE:GREGORIAN
BEGIN:VEVENT
UID:casag/event/30892
DTSTAMP:20260420T055450Z
SUMMARY:NLH Thursday Skat Poker Challenge
DESCRIPTION:Texas Hold'em\nBUY-IN: € 50+10
URL:https://www.casinos.at/events/poker-kalender/detail/2025-06-12-nlh-thur
 sday-skat-poker-challenge-seefeld-1
DTSTART:20250612T193000
DTEND:20250612T235900
LOCATION:Casino Seefeld\, Bahnhofstraße 124\, 6100 Seefeld/Tirol
END:VEVENT
END:VCALENDAR
