BEGIN:VCALENDAR
PRODID:-//eluceo/ical//2.0/EN
VERSION:2.0
CALSCALE:GREGORIAN
BEGIN:VEVENT
UID:casag/event/30895
DTSTAMP:20260419T231053Z
SUMMARY:NLH CAPT Seefeld Classic Opening
DESCRIPTION:Texas Hold'em\nBUY-IN: € 200+30
URL:https://www.casinos.at/events/poker-kalender/detail/2025-10-08-nlh-capt
 -seefeld-classic-opening-seefeld-1
DTSTART:20251008T170000
DTEND:20251008T235900
LOCATION:Casino Seefeld\, Bahnhofstraße 124\, 6100 Seefeld/Tirol
END:VEVENT
END:VCALENDAR
