BEGIN:VCALENDAR
PRODID:-//eluceo/ical//2.0/EN
VERSION:2.0
CALSCALE:GREGORIAN
BEGIN:VEVENT
UID:casag/event/30900
DTSTAMP:20260419T231134Z
SUMMARY:NLH CAPT Seefeld Satellite
DESCRIPTION:Texas Hold'em\nBUY-IN: € 50+10\nGARANTIE: 3 Tickets GTD € 5
 50\,-
URL:https://www.casinos.at/events/poker-kalender/detail/2025-10-09-nlh-capt
 -seefeld-satellite-seefeld-1
DTSTART:20251009T200000
DTEND:20251009T235900
LOCATION:Casino Seefeld\, Bahnhofstraße 124\, 6100 Seefeld/Tirol
END:VEVENT
END:VCALENDAR
