BEGIN:VCALENDAR
PRODID:-//eluceo/ical//2.0/EN
VERSION:2.0
CALSCALE:GREGORIAN
BEGIN:VEVENT
UID:casag/event/30902
DTSTAMP:20260419T231026Z
SUMMARY:NLH CAPT Seefeld Main Event 1A
DESCRIPTION:Texas Hold'em\nBUY-IN: € 500+50
URL:https://www.casinos.at/events/poker-kalender/detail/2025-10-10-nlh-capt
 -seefeld-main-event-1a-seefeld
DTSTART:20251010T140000
DTEND:20251010T235900
LOCATION:Casino Seefeld\, Bahnhofstraße 124\, 6100 Seefeld/Tirol
END:VEVENT
END:VCALENDAR
