BEGIN:VCALENDAR
PRODID:-//eluceo/ical//2.0/EN
VERSION:2.0
CALSCALE:GREGORIAN
BEGIN:VEVENT
UID:casag/event/30958
DTSTAMP:20260419T231220Z
SUMMARY:NLH CAPT Seefeld Main Event 1B
DESCRIPTION:Texas Hold'em\nBUY-IN: € 500+50
URL:https://www.casinos.at/events/poker-kalender/detail/2025-10-11-nlh-capt
 -seefeld-main-event-1b-seefeld-1
DTSTART:20251011T140000
DTEND:20251011T235900
LOCATION:Casino Seefeld\, Bahnhofstraße 124\, 6100 Seefeld/Tirol
END:VEVENT
END:VCALENDAR
