BEGIN:VCALENDAR
PRODID:-//eluceo/ical//2.0/EN
VERSION:2.0
CALSCALE:GREGORIAN
BEGIN:VEVENT
UID:casag/event/30962
DTSTAMP:20260419T230935Z
SUMMARY:NLH CAPT Seefeld Main Event Turbo 1C
DESCRIPTION:Texas Hold'em\nBUY-IN: € 500+50
URL:https://www.casinos.at/events/poker-kalender/detail/2025-10-11-nlh-capt
 -seefeld-main-event-turbo-1c-seefeld-1
DTSTART:20251011T200000
DTEND:20251011T235900
LOCATION:Casino Seefeld\, Bahnhofstraße 124\, 6100 Seefeld/Tirol
END:VEVENT
END:VCALENDAR
