BEGIN:VCALENDAR
PRODID:-//eluceo/ical//2.0/EN
VERSION:2.0
CALSCALE:GREGORIAN
BEGIN:VEVENT
UID:casag/event/30964
DTSTAMP:20260419T231058Z
SUMMARY:NLH CAPT Seefeld Main Event FINAL DAY
DESCRIPTION:Texas Hold'em
URL:https://www.casinos.at/events/poker-kalender/detail/2025-10-12-nlh-capt
 -seefeld-main-event-final-day-seefeld
DTSTART:20251012T120000
DTEND:20251012T235900
LOCATION:Casino Seefeld\, Bahnhofstraße 124\, 6100 Seefeld/Tirol
END:VEVENT
END:VCALENDAR
