BEGIN:VCALENDAR
PRODID:-//eluceo/ical//2.0/EN
VERSION:2.0
CALSCALE:GREGORIAN
BEGIN:VEVENT
UID:casag/event/30967
DTSTAMP:20260419T231057Z
SUMMARY:NLH CAPT Seefeld Weekender Progressive Bounty € 100\,-
DESCRIPTION:Texas Hold'em\nBUY-IN: € 200+30
URL:https://www.casinos.at/events/poker-kalender/detail/2025-10-12-nlh-capt
 -seefeld-weekender-progressive-bounty-eur-100-seefeld
DTSTART:20251012T140000
DTEND:20251012T235900
LOCATION:Casino Seefeld\, Bahnhofstraße 124\, 6100 Seefeld/Tirol
END:VEVENT
END:VCALENDAR
