BEGIN:VCALENDAR
PRODID:-//eluceo/ical//2.0/EN
VERSION:2.0
CALSCALE:GREGORIAN
BEGIN:VEVENT
UID:casag/event/30969
DTSTAMP:20260419T232559Z
SUMMARY:NLH CAPT Seefeld Satellite
DESCRIPTION:Texas Hold'em\nBUY-IN: € 50+10\nGARANTIE: 3 Tickets GTD € 5
 50\,-
URL:https://www.casinos.at/events/poker-kalender/detail/2025-10-06-nlh-capt
 -seefeld-satellite-innsbruck
DTSTART:20251006T182000
DTEND:20251006T235900
LOCATION:Casino Innsbruck\, Salurner Straße 15\, 6020 Innsbruck
END:VEVENT
END:VCALENDAR
