BEGIN:VCALENDAR
PRODID:-//eluceo/ical//2.0/EN
VERSION:2.0
CALSCALE:GREGORIAN
BEGIN:VEVENT
UID:casag/event/31520
DTSTAMP:20260419T232617Z
SUMMARY:NLH Pokermania Deepstack XL
DESCRIPTION:Texas Hold'em\nBUY-IN: € 100+20\nGARANTIE: €€ 6.000
URL:https://www.casinos.at/events/poker-kalender/detail/2025-09-24-nlh-poke
 rmania-deepstack-xl-seefeld
DTSTART:20250924T180000
DTEND:20250924T235900
LOCATION:Casino Seefeld\, Bahnhofstraße 124\, 6100 Seefeld/Tirol
END:VEVENT
END:VCALENDAR
