BEGIN:VCALENDAR
PRODID:-//eluceo/ical//2.0/EN
VERSION:2.0
CALSCALE:GREGORIAN
BEGIN:VEVENT
UID:casag/event/31526
DTSTAMP:20260419T232617Z
SUMMARY:NLH Pokermania Progressive Bounty € 100\,-
DESCRIPTION:Texas Hold'em\nBUY-IN: € 200+30\nGARANTIE: €€ 12.000
URL:https://www.casinos.at/events/poker-kalender/detail/2025-09-26-nlh-poke
 rmania-progressive-bounty-eur-100-seefeld
DTSTART:20250926T170000
DTEND:20250926T235900
LOCATION:Casino Seefeld\, Bahnhofstraße 124\, 6100 Seefeld/Tirol
END:VEVENT
END:VCALENDAR
