BEGIN:VCALENDAR
PRODID:-//eluceo/ical//2.0/EN
VERSION:2.0
CALSCALE:GREGORIAN
BEGIN:VEVENT
UID:casag/event/31578
DTSTAMP:20260420T005119Z
SUMMARY:CAPT MILLION Seefeld NLH Million Day 1A
DESCRIPTION:Texas Hold'em\nBUY-IN: € 500+50\nGARANTIE: One Million
URL:https://www.casinos.at/events/poker-kalender/detail/2025-09-12-capt-mil
 lion-seefeld-nlh-million-day-1a-seefeld-1
DTSTART:20250912T170000
DTEND:20250912T235900
LOCATION:Casino Seefeld\, Bahnhofstraße 124\, 6100 Seefeld/Tirol
END:VEVENT
END:VCALENDAR
