BEGIN:VCALENDAR
PRODID:-//eluceo/ical//2.0/EN
VERSION:2.0
CALSCALE:GREGORIAN
BEGIN:VEVENT
UID:casag/event/31581
DTSTAMP:20260420T005118Z
SUMMARY:CAPT MILLION Seefeld NLH Million Day 2 of 1A
DESCRIPTION:Texas Hold'em\nBUY-IN: € 500+50\nGARANTIE: One Million
URL:https://www.casinos.at/events/poker-kalender/detail/2025-09-13-capt-mil
 lion-seefeld-nlh-million-day-2-of-1a-seefeld-1
DTSTART:20250913T170000
DTEND:20250913T235900
LOCATION:Casino Seefeld\, Bahnhofstraße 124\, 6100 Seefeld/Tirol
END:VEVENT
END:VCALENDAR
