BEGIN:VCALENDAR
PRODID:-//eluceo/ical//2.0/EN
VERSION:2.0
CALSCALE:GREGORIAN
BEGIN:VEVENT
UID:casag/event/31600
DTSTAMP:20260419T214527Z
SUMMARY:NLH Mystery Bounty € 70\,-
DESCRIPTION:Texas Hold'em\nBUY-IN: € 200+30\nGARANTIE: €€ 12.000
URL:https://www.casinos.at/events/poker-kalender/detail/2025-11-07-nlh-myst
 ery-bounty-eur-70-innsbruck
DTSTART:20251107T170000
DTEND:20251107T235900
LOCATION:Casino Innsbruck\, Salurner Straße 15\, 6020 Innsbruck
END:VEVENT
END:VCALENDAR
