BEGIN:VCALENDAR
PRODID:-//eluceo/ical//2.0/EN
VERSION:2.0
CALSCALE:GREGORIAN
BEGIN:VEVENT
UID:casag/event/31590
DTSTAMP:20260420T023014Z
SUMMARY:Ferragosto Crazy Poker Cash Game Days
DESCRIPTION:Texas Hold'em/Omaha\nGARANTIE: € 650 in Wertjetons
URL:https://www.casinos.at/events/poker-kalender/detail/2025-07-30-ferragos
 to-crazy-poker-cash-game-days-seefeld
DTSTART:20250811T180000
DTEND:20250811T235900
LOCATION:Casino Seefeld\, Bahnhofstraße 124\, 6100 Seefeld/Tirol
END:VEVENT
END:VCALENDAR
