BEGIN:VCALENDAR
PRODID:-//eluceo/ical//2.0/EN
VERSION:2.0
CALSCALE:GREGORIAN
BEGIN:VEVENT
UID:casag/event/25830
DTSTAMP:20260419T212738Z
SUMMARY:Saturday Poker Challenge NLH CLASSIC
DESCRIPTION:Texas Hold'em\nBUY-IN: € 100+20
URL:https://www.casinos.at/events/poker-kalender/detail/2025-02-08-nlh-clas
 sic-seefeld
DTSTART:20251129T172000
DTEND:20251129T235900
LOCATION:Casino Seefeld\, Bahnhofstraße 124\, 6100 Seefeld/Tirol
END:VEVENT
END:VCALENDAR
