BEGIN:VCALENDAR
PRODID:-//eluceo/ical//2.0/EN
VERSION:2.0
CALSCALE:GREGORIAN
BEGIN:VEVENT
UID:casag/event/32722
DTSTAMP:20260419T153414Z
SUMMARY:CAPT Seefeld NLH Satellite Snow Festival
DESCRIPTION:Texas Hold'em\nBUY-IN: € 50+10\nGARANTIE: Ticket € 550
URL:https://www.casinos.at/events/poker-kalender/detail/2026-01-28-capt-see
 feld-nlh-satellite-snow-festival-wien
DTSTART:20260128T183000
DTEND:20260128T235900
LOCATION:Casino Wien\, Kärntner Straße 41\, 1010 Wien
END:VEVENT
END:VCALENDAR
