BEGIN:VCALENDAR
PRODID:-//eluceo/ical//2.0/EN
VERSION:2.0
CALSCALE:GREGORIAN
BEGIN:VEVENT
UID:casag/event/32725
DTSTAMP:20260419T153440Z
SUMMARY:CAPT Seefeld NLH Satellite Snow Festival
DESCRIPTION:Texas Hold'em\nBUY-IN: € 50+10
URL:https://www.casinos.at/events/poker-kalender/detail/2026-01-29-capt-see
 feld-nlh-satellite-snow-festival-bregenz-1
DTSTART:20260129T183000
DTEND:20260129T235900
LOCATION:Casino Bregenz\, Platz der Wiener Symphoniker 3\, 6900 Bregenz
END:VEVENT
END:VCALENDAR
