BEGIN:VCALENDAR
PRODID:-//eluceo/ical//2.0/EN
VERSION:2.0
CALSCALE:GREGORIAN
BEGIN:VEVENT
UID:casag/event/32731
DTSTAMP:20260419T153413Z
SUMMARY:CAPT Seefeld NLH Snow Festival 1A
DESCRIPTION:Texas Hold'em\nBUY-IN: € 500+50
URL:https://www.casinos.at/events/poker-kalender/detail/2026-01-30-capt-see
 feld-nlh-snow-festival-1a-bregenz-1
DTSTART:20260130T160000
DTEND:20260130T235900
LOCATION:Casino Bregenz\, Platz der Wiener Symphoniker 3\, 6900 Bregenz
END:VEVENT
END:VCALENDAR
