BEGIN:VCALENDAR
PRODID:-//eluceo/ical//2.0/EN
VERSION:2.0
CALSCALE:GREGORIAN
BEGIN:VEVENT
UID:casag/event/32777
DTSTAMP:20260419T153315Z
SUMMARY:CAPT Seefeld NLH Satellite Mystery Bounty
DESCRIPTION:Texas Hold'em\nBUY-IN: € 130+20
URL:https://www.casinos.at/events/poker-kalender/detail/2026-02-02-capt-see
 feld-nlh-satellite-mystery-bounty-seefeld-1
DTSTART:20260202T182000
DTEND:20260202T235900
LOCATION:Casino Seefeld\, Bahnhofstraße 124\, 6100 Seefeld/Tirol
END:VEVENT
END:VCALENDAR
