BEGIN:VCALENDAR
PRODID:-//eluceo/ical//2.0/EN
VERSION:2.0
CALSCALE:GREGORIAN
BEGIN:VEVENT
UID:casag/event/32780
DTSTAMP:20260419T153321Z
SUMMARY:CAPT Seefeld NLH Opening Progressive Bounty € 200
DESCRIPTION:Texas Hold'em\nBUY-IN: € 400+40
URL:https://www.casinos.at/events/poker-kalender/detail/2025-08-05-capt-see
 feld-zentrale
DTSTART:20260203T170000
DTEND:20260203T235900
LOCATION:Casino Seefeld\, Bahnhofstraße 124\, 6100 Seefeld/Tirol
END:VEVENT
END:VCALENDAR
