BEGIN:VCALENDAR
PRODID:-//eluceo/ical//2.0/EN
VERSION:2.0
CALSCALE:GREGORIAN
BEGIN:VEVENT
UID:casag/event/32789
DTSTAMP:20260419T153321Z
SUMMARY:CAPT Seefeld NLH Mystery Bounty € 500 Day 1
DESCRIPTION:Texas Hold'em\nBUY-IN: € 1000+100
URL:https://www.casinos.at/events/poker-kalender/detail/2026-02-04-capt-see
 feld-nlh-mystery-bounty-eur-500-day-1-seefeld
DTSTART:20260204T160000
DTEND:20260204T235900
LOCATION:Casino Seefeld\, Bahnhofstraße 124\, 6100 Seefeld/Tirol
END:VEVENT
END:VCALENDAR
