BEGIN:VCALENDAR
PRODID:-//eluceo/ical//2.0/EN
VERSION:2.0
CALSCALE:GREGORIAN
BEGIN:VEVENT
UID:casag/event/32932
DTSTAMP:20260419T153220Z
SUMMARY:CAPT Seefeld NLH Mystery Bounty € 500 Final Day
DESCRIPTION:Texas Hold'em
URL:https://www.casinos.at/events/poker-kalender/detail/2026-02-05-capt-see
 feld-nlh-mystery-bounty-eur-500-final-day-seefeld
DTSTART:20260205T130000
DTEND:20260205T235900
LOCATION:Casino Seefeld\, Bahnhofstraße 124\, 6100 Seefeld/Tirol
END:VEVENT
END:VCALENDAR
