BEGIN:VCALENDAR
PRODID:-//eluceo/ical//2.0/EN
VERSION:2.0
CALSCALE:GREGORIAN
BEGIN:VEVENT
UID:casag/event/32934
DTSTAMP:20260419T153316Z
SUMMARY:CAPT Seefeld Limit Seven Card Stud Championship Day 1
DESCRIPTION:Seven Card Stud\nBUY-IN: € 300+30
URL:https://www.casinos.at/events/poker-kalender/detail/2026-02-05-capt-see
 feld-limit-seven-card-stud-championship-day-1-seefeld
DTSTART:20260205T133000
DTEND:20260205T235900
LOCATION:Casino Seefeld\, Bahnhofstraße 124\, 6100 Seefeld/Tirol
END:VEVENT
END:VCALENDAR
