BEGIN:VCALENDAR
PRODID:-//eluceo/ical//2.0/EN
VERSION:2.0
CALSCALE:GREGORIAN
BEGIN:VEVENT
UID:casag/event/32938
DTSTAMP:20260419T153315Z
SUMMARY:CAPT Seefeld NLH LADIES Championship
DESCRIPTION:Texas Hold'em\nBUY-IN: € 200+30
URL:https://www.casinos.at/events/poker-kalender/detail/2026-02-05-capt-see
 feld-nlh-ladies-championship-seefeld
DTSTART:20260205T190000
DTEND:20260205T235900
LOCATION:Casino Seefeld\, Bahnhofstraße 124\, 6100 Seefeld/Tirol
END:VEVENT
END:VCALENDAR
