BEGIN:VCALENDAR
PRODID:-//eluceo/ical//2.0/EN
VERSION:2.0
CALSCALE:GREGORIAN
BEGIN:VEVENT
UID:casag/event/32940
DTSTAMP:20260419T153310Z
SUMMARY:CAPT Seefeld Limit Seven Card Stud Championship Final Day
DESCRIPTION:Seven Card Stud
URL:https://www.casinos.at/events/poker-kalender/detail/2026-02-06-capt-see
 feld-limit-seven-card-stud-championship-final-day-seefeld
DTSTART:20260206T133000
DTEND:20260206T235900
LOCATION:Casino Seefeld\, Bahnhofstraße 124\, 6100 Seefeld/Tirol
END:VEVENT
END:VCALENDAR
