BEGIN:VCALENDAR
PRODID:-//eluceo/ical//2.0/EN
VERSION:2.0
CALSCALE:GREGORIAN
BEGIN:VEVENT
UID:casag/event/32942
DTSTAMP:20260419T153315Z
SUMMARY:CAPT Seefeld NLH Snow Festival Day 1B
DESCRIPTION:Texas Hold'em\nBUY-IN: € 500+50
URL:https://www.casinos.at/events/poker-kalender/detail/2026-02-06-capt-see
 feld-nlh-snow-festival-day-1b-seefeld
DTSTART:20260206T140000
DTEND:20260206T235900
LOCATION:Casino Seefeld\, Bahnhofstraße 124\, 6100 Seefeld/Tirol
END:VEVENT
END:VCALENDAR
