BEGIN:VCALENDAR
PRODID:-//eluceo/ical//2.0/EN
VERSION:2.0
CALSCALE:GREGORIAN
BEGIN:VEVENT
UID:casag/event/32944
DTSTAMP:20260419T153310Z
SUMMARY:CAPT Seefeld NLH Bounty € 50
DESCRIPTION:Texas Hold'em\nBUY-IN: € 200+30
URL:https://www.casinos.at/events/poker-kalender/detail/2026-02-06-capt-see
 feld-nlh-bounty-eur-50-seefeld
DTSTART:20260206T170000
DTEND:20260206T235900
LOCATION:Casino Seefeld\, Bahnhofstraße 124\, 6100 Seefeld/Tirol
END:VEVENT
END:VCALENDAR
