BEGIN:VCALENDAR
PRODID:-//eluceo/ical//2.0/EN
VERSION:2.0
CALSCALE:GREGORIAN
BEGIN:VEVENT
UID:casag/event/32946
DTSTAMP:20260419T153309Z
SUMMARY:CAPT Seefeld NLH Snow Festival Day 1C
DESCRIPTION:Texas Hold'em\nBUY-IN: € 500+50
URL:https://www.casinos.at/events/poker-kalender/detail/2026-02-07-capt-see
 feld-nlh-snow-festival-day-1c-seefeld
DTSTART:20260207T130000
DTEND:20260207T235900
LOCATION:Casino Seefeld\, Bahnhofstraße 124\, 6100 Seefeld/Tirol
END:VEVENT
END:VCALENDAR
