BEGIN:VCALENDAR
PRODID:-//eluceo/ical//2.0/EN
VERSION:2.0
CALSCALE:GREGORIAN
BEGIN:VEVENT
UID:casag/event/32952
DTSTAMP:20260419T153220Z
SUMMARY:CAPT Seefeld NLH Bounty € 100
DESCRIPTION:Texas Hold'em\nBUY-IN: € 350+35
URL:https://www.casinos.at/events/poker-kalender/detail/2026-02-08-capt-see
 feld-nlh-bounty-eur-100-seefeld
DTSTART:20260208T140000
DTEND:20260208T235900
LOCATION:Casino Seefeld\, Bahnhofstraße 124\, 6100 Seefeld/Tirol
END:VEVENT
END:VCALENDAR
