BEGIN:VCALENDAR
PRODID:-//eluceo/ical//2.0/EN
VERSION:2.0
CALSCALE:GREGORIAN
BEGIN:VEVENT
UID:casag/event/32954
DTSTAMP:20260419T153439Z
SUMMARY:CAPT Seefeld NLH Satellite Alpine Classic
DESCRIPTION:Texas Hold'em\nBUY-IN: € 200+30
URL:https://www.casinos.at/events/poker-kalender/detail/2026-02-08-capt-see
 feld-nlh-satellite-alpine-classic-seefeld
DTSTART:20260208T200000
DTEND:20260208T235900
LOCATION:Casino Seefeld\, Bahnhofstraße 124\, 6100 Seefeld/Tirol
END:VEVENT
END:VCALENDAR
