BEGIN:VCALENDAR
PRODID:-//eluceo/ical//2.0/EN
VERSION:2.0
CALSCALE:GREGORIAN
BEGIN:VEVENT
UID:casag/event/32964
DTSTAMP:20260419T134708Z
SUMMARY:CAPT Seefeld NLH Alpine Classic Final Day
DESCRIPTION:Texas Hold'em
URL:https://www.casinos.at/events/poker-kalender/detail/2026-02-10-capt-see
 feld-nlh-alpine-classic-final-day-seefeld
DTSTART:20260210T130000
DTEND:20260210T235900
LOCATION:Casino Seefeld\, Bahnhofstraße 124\, 6100 Seefeld/Tirol
END:VEVENT
END:VCALENDAR
