BEGIN:VCALENDAR
PRODID:-//eluceo/ical//2.0/EN
VERSION:2.0
CALSCALE:GREGORIAN
BEGIN:VEVENT
UID:casag/event/32992
DTSTAMP:20260419T134707Z
SUMMARY:CAPT Seefeld NLH Deepstack Freezeout Winter Party
DESCRIPTION:Texas Hold'em\nBUY-IN: € 200+30
URL:https://www.casinos.at/events/poker-kalender/detail/2026-02-14-capt-see
 feld-nlh-deepstack-freezeout-winter-party-seefeld
DTSTART:20260214T123000
DTEND:20260214T235900
LOCATION:Casino Seefeld\, Bahnhofstraße 124\, 6100 Seefeld/Tirol
END:VEVENT
END:VCALENDAR
