BEGIN:VCALENDAR
PRODID:-//eluceo/ical//2.0/EN
VERSION:2.0
CALSCALE:GREGORIAN
BEGIN:VEVENT
UID:casag/event/33751
DTSTAMP:20260419T213438Z
SUMMARY:NLH Pokermania Deepstack XXL 
DESCRIPTION:Texas Hold'em\nBUY-IN: € 100+20\nGARANTIE: €€ 6.000
URL:https://www.casinos.at/events/poker-kalender/detail/2025-11-20-nlh-poke
 rmania-deepstack-xxl-seefeld
DTSTART:20251120T170000
DTEND:20251120T235900
LOCATION:Casino Seefeld\, Bahnhofstraße 124\, 6100 Seefeld/Tirol
END:VEVENT
END:VCALENDAR
