BEGIN:VCALENDAR
PRODID:-//eluceo/ical//2.0/EN
VERSION:2.0
CALSCALE:GREGORIAN
BEGIN:VEVENT
UID:casag/event/33754
DTSTAMP:20260419T230934Z
SUMMARY:NLH Pokermania Classic 
DESCRIPTION:Texas Hold'em\nBUY-IN: € 130+20\nGARANTIE: €€ 8.000
URL:https://www.casinos.at/events/poker-kalender/detail/2025-11-21-zentrale
DTSTART:20251121T170000
DTEND:20251121T235900
LOCATION:Casino Seefeld\, Bahnhofstraße 124\, 6100 Seefeld/Tirol
END:VEVENT
END:VCALENDAR
