BEGIN:VCALENDAR
PRODID:-//eluceo/ical//2.0/EN
VERSION:2.0
CALSCALE:GREGORIAN
BEGIN:VEVENT
UID:casag/event/33756
DTSTAMP:20260419T212600Z
SUMMARY:NLH Pokermania Main Event Classic 
DESCRIPTION:Texas Hold'em\nBUY-IN: € 200+30
URL:https://www.casinos.at/events/poker-kalender/detail/2025-11-22-nlh-poke
 rmania-main-event-classic-zentrale
DTSTART:20251122T170000
DTEND:20251122T235900
LOCATION:Casino Zentrale\, Rennweg 44\, 1038 Wien
END:VEVENT
END:VCALENDAR
