BEGIN:VCALENDAR
PRODID:-//eluceo/ical//2.0/EN
VERSION:2.0
CALSCALE:GREGORIAN
BEGIN:VEVENT
UID:casag/event/33772
DTSTAMP:20260419T170256Z
SUMMARY:NLH Snowmania Deepstack XL 
DESCRIPTION:Texas Hold'em\nBUY-IN: € 100+20\nGARANTIE: €€ 6.000
URL:https://www.casinos.at/events/poker-kalender/detail/2026-01-07-nlh-snow
 mania-deepstack-xl-seefeld
DTSTART:20260107T170000
DTEND:20260107T235900
LOCATION:Casino Seefeld\, Bahnhofstraße 124\, 6100 Seefeld/Tirol
END:VEVENT
END:VCALENDAR
