BEGIN:VCALENDAR
PRODID:-//eluceo/ical//2.0/EN
VERSION:2.0
CALSCALE:GREGORIAN
BEGIN:VEVENT
UID:casag/event/33776
DTSTAMP:20260419T170433Z
SUMMARY:NLH Snowmania Mystery Bounty € 100\,-
DESCRIPTION:Texas Hold'em\nBUY-IN: € 200+30\nGARANTIE: €€ 12.000
URL:https://www.casinos.at/events/poker-kalender/detail/2026-01-09-nlh-snow
 mania-mystery-bounty-eur-100-seefeld
DTSTART:20260109T170000
DTEND:20260109T235900
LOCATION:Casino Seefeld\, Bahnhofstraße 124\, 6100 Seefeld/Tirol
END:VEVENT
END:VCALENDAR
