BEGIN:VCALENDAR
PRODID:-//eluceo/ical//2.0/EN
VERSION:2.0
CALSCALE:GREGORIAN
BEGIN:VEVENT
UID:casag/event/33778
DTSTAMP:20260419T170331Z
SUMMARY:NLH Snowmania Main Event Classic 
DESCRIPTION:Texas Hold'em\nBUY-IN: € 300+30\nGARANTIE: €€ 20.000
URL:https://www.casinos.at/events/poker-kalender/detail/2026-01-10-nlh-snow
 mania-main-event-classic-seefeld
DTSTART:20260110T170000
DTEND:20260110T235900
LOCATION:Casino Seefeld\, Bahnhofstraße 124\, 6100 Seefeld/Tirol
END:VEVENT
END:VCALENDAR
