BEGIN:VCALENDAR
PRODID:-//eluceo/ical//2.0/EN
VERSION:2.0
CALSCALE:GREGORIAN
BEGIN:VEVENT
UID:casag/event/33781
DTSTAMP:20260419T170428Z
SUMMARY:NLH Satellite CAPT Seefeld
DESCRIPTION:Texas Hold'em\nBUY-IN: € 50+10\nGARANTIE: 3 Tickets €550
URL:https://www.casinos.at/events/poker-kalender/detail/2026-01-14-nlh-sate
 llite-3-tickets-gtd-eur-550-seefeld
DTSTART:20260114T182000
DTEND:20260114T235900
LOCATION:Casino Seefeld\, Bahnhofstraße 124\, 6100 Seefeld/Tirol
END:VEVENT
END:VCALENDAR
