BEGIN:VCALENDAR
PRODID:-//eluceo/ical//2.0/EN
VERSION:2.0
CALSCALE:GREGORIAN
BEGIN:VEVENT
UID:casag/event/33789
DTSTAMP:20260419T170521Z
SUMMARY:NLH Satellite CAPT Seefeld 
DESCRIPTION:Texas Hold'em\nBUY-IN: € 50+10\nGARANTIE: 3 Tickets € 550
URL:https://www.casinos.at/events/poker-kalender/detail/2026-01-15-nlh-sate
 llite-capt-seefeld-innsbruck
DTSTART:20260115T182000
DTEND:20260115T235900
LOCATION:Casino Innsbruck\, Salurner Straße 15\, 6020 Innsbruck
END:VEVENT
END:VCALENDAR
