BEGIN:VCALENDAR
PRODID:-//eluceo/ical//2.0/EN
VERSION:2.0
CALSCALE:GREGORIAN
BEGIN:VEVENT
UID:casag/event/34272
DTSTAMP:20260419T195945Z
SUMMARY:NLH X-Mas Classic
DESCRIPTION:Texas Hold'em\nBUY-IN: € 200+30\nGARANTIE: €€ 12.000
URL:https://www.casinos.at/events/poker-kalender/detail/2025-12-12-nlh-x-ma
 s-classic-innsbruck
DTSTART:20251212T170000
DTEND:20251212T235900
LOCATION:Casino Innsbruck\, Salurner Straße 15\, 6020 Innsbruck
END:VEVENT
END:VCALENDAR
