BEGIN:VCALENDAR
PRODID:-//eluceo/ical//2.0/EN
VERSION:2.0
CALSCALE:GREGORIAN
BEGIN:VEVENT
UID:casag/event/34276
DTSTAMP:20260419T200043Z
SUMMARY:NLH X-Mas Main Event
DESCRIPTION:Texas Hold'em\nBUY-IN: € 350+35\nGARANTIE: €€ 20.000
URL:https://www.casinos.at/events/poker-kalender/detail/2025-12-12-nlh-x-ma
 s-classic-innsbruck-1
DTSTART:20251213T170000
DTEND:20251213T235900
LOCATION:Casino Innsbruck\, Salurner Straße 15\, 6020 Innsbruck
END:VEVENT
END:VCALENDAR
