BEGIN:VCALENDAR
PRODID:-//eluceo/ical//2.0/EN
VERSION:2.0
CALSCALE:GREGORIAN
BEGIN:VEVENT
UID:casag/event/34281
DTSTAMP:20260419T195939Z
SUMMARY:NLH Pokermania X-Mas Deepstack XL
DESCRIPTION:Texas Hold'em\nBUY-IN: € 100+20\nGARANTIE: €€ 6.000
URL:https://www.casinos.at/events/poker-kalender/detail/2025-12-17-nlh-poke
 rmania-x-mas-deepstack-xl-innsbruck
DTSTART:20251217T180000
DTEND:20251217T235900
LOCATION:Casino Innsbruck\, Salurner Straße 15\, 6020 Innsbruck
END:VEVENT
END:VCALENDAR
