BEGIN:VCALENDAR
PRODID:-//eluceo/ical//2.0/EN
VERSION:2.0
CALSCALE:GREGORIAN
BEGIN:VEVENT
UID:casag/event/34289
DTSTAMP:20260419T214517Z
SUMMARY:NLH Main Event Classic
DESCRIPTION:Texas Hold'em\nBUY-IN: € 200+30\nGARANTIE: €€ 12.000
URL:https://www.casinos.at/events/poker-kalender/detail/2025-11-07-nlh-myst
 ery-bounty-eur-70-kopie-1-innsbruck
DTSTART:20251108T170000
DTEND:20251108T235900
LOCATION:Casino Innsbruck\, Salurner Straße 15\, 6020 Innsbruck
END:VEVENT
END:VCALENDAR
