BEGIN:VCALENDAR
PRODID:-//eluceo/ical//2.0/EN
VERSION:2.0
CALSCALE:GREGORIAN
BEGIN:VEVENT
UID:casag/event/34399
DTSTAMP:20260419T133730Z
SUMMARY:The Musical Sound of Christmas
DESCRIPTION:Die Dinner Show „The Musical Sound of Christmas" überrascht 
 mit weihnachtlichen Klängen\, die der Musicalwelt entstammen. \nOder wuss
 test Du\, dass „White Christmas“ ein Musical ist oder\, dass „ It´s
  beginning to look a lot like Christmas“ aus dem Musical „Here is love
 “ stammt?\n
URL:https://www.casinos.at/events/poker-kalender/detail/2026-12-16-the-musi
 cal-sound-of-christmas-innsbruck
DTSTART:20261216T190000
DTEND:20261216T230000
LOCATION:Casino Innsbruck\, Salurner Straße 15\, 6020 Innsbruck
END:VEVENT
END:VCALENDAR
